BEGIN:VCALENDAR
VERSION:2.0
PRODID:https://www.kufer.de/kuferweb / DE
METHOD:PUBLISH
CALSCALE:GREGORIAN
X-WR-TIMEZONE:Europe/Berlin
BEGIN:VTIMEZONE
TZID:Europe/Berlin
X-LIC-LOCATION:Europe/Berlin
BEGIN:DAYLIGHT
TZOFFSETFROM:+0100
TZOFFSETTO:+0200
TZNAME:CEST
DTSTART:19700329T020000
RRULE:FREQ=YEARLY;INTERVAL=1;BYDAY=-1SU;BYMONTH=3
END:DAYLIGHT
BEGIN:STANDARD
TZOFFSETFROM:+0200
TZOFFSETTO:+0100
TZNAME:CET
DTSTART:19701025T030000
RRULE:FREQ=YEARLY;INTERVAL=1;BYDAY=-1SU;BYMONTH=10
END:STANDARD
END:VTIMEZONE
BEGIN:VEVENT
DTSTAMP:20260423T144359
DTSTART;TZID=Europe/Berlin:20260821T123000
DTEND;TZID=Europe/Berlin:20260821T133000
UID:26-1-W 821-20260821T123000@VHSGILCHING
SUMMARY:Wellpass - Entspannt ins Wochenende mit Qigong (26-1-W 821) 
LOCATION:Gilching, vhs, Raum 107, Landsberger Str. 17 a, 82205 Gilching
END:VEVENT
BEGIN:VEVENT
DTSTAMP:20260423T144359
DTSTART;TZID=Europe/Berlin:20260828T123000
DTEND;TZID=Europe/Berlin:20260828T133000
UID:26-1-W 821-20260828T123000@VHSGILCHING
SUMMARY:Wellpass - Entspannt ins Wochenende mit Qigong (26-1-W 821) 
LOCATION:Gilching, vhs, Raum 107, Landsberger Str. 17 a, 82205 Gilching
END:VEVENT
BEGIN:VEVENT
DTSTAMP:20260423T144359
DTSTART;TZID=Europe/Berlin:20260904T123000
DTEND;TZID=Europe/Berlin:20260904T133000
UID:26-1-W 821-20260904T123000@VHSGILCHING
SUMMARY:Wellpass - Entspannt ins Wochenende mit Qigong (26-1-W 821) 
LOCATION:Gilching, vhs, Raum 107, Landsberger Str. 17 a, 82205 Gilching
END:VEVENT
END:VCALENDAR