BEGIN:VCALENDAR
VERSION:2.0
PRODID:https://www.kufer.de/kuferweb / DE
METHOD:PUBLISH
CALSCALE:GREGORIAN
X-WR-TIMEZONE:Europe/Berlin
BEGIN:VTIMEZONE
TZID:Europe/Berlin
X-LIC-LOCATION:Europe/Berlin
BEGIN:DAYLIGHT
TZOFFSETFROM:+0100
TZOFFSETTO:+0200
TZNAME:CEST
DTSTART:19700329T020000
RRULE:FREQ=YEARLY;INTERVAL=1;BYDAY=-1SU;BYMONTH=3
END:DAYLIGHT
BEGIN:STANDARD
TZOFFSETFROM:+0200
TZOFFSETTO:+0100
TZNAME:CET
DTSTART:19701025T030000
RRULE:FREQ=YEARLY;INTERVAL=1;BYDAY=-1SU;BYMONTH=10
END:STANDARD
END:VTIMEZONE
BEGIN:VEVENT
DTSTAMP:20260423T144359
DTSTART;TZID=Europe/Berlin:20260930T180000
DTEND;TZID=Europe/Berlin:20260930T191500
UID:26-2-0 430-20260930T180000@VHSGILCHING
SUMMARY:Englisch A2 - light Conversation (26-2-0 430) 
LOCATION:Gilching, vhs, Raum 002, Landsberger Str. 17 a, 82205 Gilching
END:VEVENT
BEGIN:VEVENT
DTSTAMP:20260423T144359
DTSTART;TZID=Europe/Berlin:20261007T180000
DTEND;TZID=Europe/Berlin:20261007T191500
UID:26-2-0 430-20261007T180000@VHSGILCHING
SUMMARY:Englisch A2 - light Conversation (26-2-0 430) 
LOCATION:Gilching, vhs, Raum 002, Landsberger Str. 17 a, 82205 Gilching
END:VEVENT
BEGIN:VEVENT
DTSTAMP:20260423T144359
DTSTART;TZID=Europe/Berlin:20261014T180000
DTEND;TZID=Europe/Berlin:20261014T191500
UID:26-2-0 430-20261014T180000@VHSGILCHING
SUMMARY:Englisch A2 - light Conversation (26-2-0 430) 
LOCATION:Gilching, vhs, Raum 002, Landsberger Str. 17 a, 82205 Gilching
END:VEVENT
BEGIN:VEVENT
DTSTAMP:20260423T144359
DTSTART;TZID=Europe/Berlin:20261021T180000
DTEND;TZID=Europe/Berlin:20261021T191500
UID:26-2-0 430-20261021T180000@VHSGILCHING
SUMMARY:Englisch A2 - light Conversation (26-2-0 430) 
LOCATION:Gilching, vhs, Raum 002, Landsberger Str. 17 a, 82205 Gilching
END:VEVENT
BEGIN:VEVENT
DTSTAMP:20260423T144359
DTSTART;TZID=Europe/Berlin:20261028T180000
DTEND;TZID=Europe/Berlin:20261028T191500
UID:26-2-0 430-20261028T180000@VHSGILCHING
SUMMARY:Englisch A2 - light Conversation (26-2-0 430) 
LOCATION:Gilching, vhs, Raum 002, Landsberger Str. 17 a, 82205 Gilching
END:VEVENT
BEGIN:VEVENT
DTSTAMP:20260423T144359
DTSTART;TZID=Europe/Berlin:20261111T180000
DTEND;TZID=Europe/Berlin:20261111T191500
UID:26-2-0 430-20261111T180000@VHSGILCHING
SUMMARY:Englisch A2 - light Conversation (26-2-0 430) 
LOCATION:Gilching, vhs, Raum 002, Landsberger Str. 17 a, 82205 Gilching
END:VEVENT
BEGIN:VEVENT
DTSTAMP:20260423T144359
DTSTART;TZID=Europe/Berlin:20261118T180000
DTEND;TZID=Europe/Berlin:20261118T191500
UID:26-2-0 430-20261118T180000@VHSGILCHING
SUMMARY:Englisch A2 - light Conversation (26-2-0 430) 
LOCATION:Gilching, vhs, Raum 002, Landsberger Str. 17 a, 82205 Gilching
END:VEVENT
BEGIN:VEVENT
DTSTAMP:20260423T144359
DTSTART;TZID=Europe/Berlin:20261125T180000
DTEND;TZID=Europe/Berlin:20261125T191500
UID:26-2-0 430-20261125T180000@VHSGILCHING
SUMMARY:Englisch A2 - light Conversation (26-2-0 430) 
LOCATION:Gilching, vhs, Raum 002, Landsberger Str. 17 a, 82205 Gilching
END:VEVENT
BEGIN:VEVENT
DTSTAMP:20260423T144359
DTSTART;TZID=Europe/Berlin:20261202T180000
DTEND;TZID=Europe/Berlin:20261202T191500
UID:26-2-0 430-20261202T180000@VHSGILCHING
SUMMARY:Englisch A2 - light Conversation (26-2-0 430) 
LOCATION:Gilching, vhs, Raum 002, Landsberger Str. 17 a, 82205 Gilching
END:VEVENT
BEGIN:VEVENT
DTSTAMP:20260423T144359
DTSTART;TZID=Europe/Berlin:20261209T180000
DTEND;TZID=Europe/Berlin:20261209T191500
UID:26-2-0 430-20261209T180000@VHSGILCHING
SUMMARY:Englisch A2 - light Conversation (26-2-0 430) 
LOCATION:Gilching, vhs, Raum 002, Landsberger Str. 17 a, 82205 Gilching
END:VEVENT
BEGIN:VEVENT
DTSTAMP:20260423T144359
DTSTART;TZID=Europe/Berlin:20261216T180000
DTEND;TZID=Europe/Berlin:20261216T191500
UID:26-2-0 430-20261216T180000@VHSGILCHING
SUMMARY:Englisch A2 - light Conversation (26-2-0 430) 
LOCATION:Gilching, vhs, Raum 002, Landsberger Str. 17 a, 82205 Gilching
END:VEVENT
BEGIN:VEVENT
DTSTAMP:20260423T144359
DTSTART;TZID=Europe/Berlin:20261223T180000
DTEND;TZID=Europe/Berlin:20261223T191500
UID:26-2-0 430-20261223T180000@VHSGILCHING
SUMMARY:Englisch A2 - light Conversation (26-2-0 430) 
LOCATION:Gilching, vhs, Raum 002, Landsberger Str. 17 a, 82205 Gilching
END:VEVENT
BEGIN:VEVENT
DTSTAMP:20260423T144359
DTSTART;TZID=Europe/Berlin:20270113T180000
DTEND;TZID=Europe/Berlin:20270113T191500
UID:26-2-0 430-20270113T180000@VHSGILCHING
SUMMARY:Englisch A2 - light Conversation (26-2-0 430) 
LOCATION:Gilching, vhs, Raum 002, Landsberger Str. 17 a, 82205 Gilching
END:VEVENT
BEGIN:VEVENT
DTSTAMP:20260423T144359
DTSTART;TZID=Europe/Berlin:20270120T180000
DTEND;TZID=Europe/Berlin:20270120T191500
UID:26-2-0 430-20270120T180000@VHSGILCHING
SUMMARY:Englisch A2 - light Conversation (26-2-0 430) 
LOCATION:Gilching, vhs, Raum 002, Landsberger Str. 17 a, 82205 Gilching
END:VEVENT
BEGIN:VEVENT
DTSTAMP:20260423T144359
DTSTART;TZID=Europe/Berlin:20270127T180000
DTEND;TZID=Europe/Berlin:20270127T191500
UID:26-2-0 430-20270127T180000@VHSGILCHING
SUMMARY:Englisch A2 - light Conversation (26-2-0 430) 
LOCATION:Gilching, vhs, Raum 002, Landsberger Str. 17 a, 82205 Gilching
END:VEVENT
END:VCALENDAR